BEGIN:VCALENDAR
PRODID:-//AT Content Types//AT Event//EN
VERSION:2.0
METHOD:PUBLISH
BEGIN:VEVENT
DTSTAMP:20260425T191634Z
CREATED:20110629T094738Z
UID:ATEvent-aeb36c360abb850b616190ca141ad5a9
LAST-MODIFIED:20110629T100652Z
SUMMARY:Templomszentelési emlékünnep Rábaszentandráson
DTSTART:20110710T080000Z
DTEND:20110710T090000Z
DESCRIPTION:1785-ben\, Szentháromság ünnepe utáni harmadik vasárn
 ap kapta használatba a rábaszentandrási evangélikusság Isten igé
 je hallgatásának helyét\, hogy ott rendszeresen találkozhassunk eg
 ymással\, és a szentségeken keresztül Isten irgalmasságával és 
 kegyelmével.  Július 10-én erre az örömünnepre emlékezünk\, s 
 ezért adunk hálát mennyei Atyánknak.
LOCATION:Rábaszentandrás\, ev. templom
CLASS:PUBLIC
END:VEVENT
END:VCALENDAR
