BEGIN:VCALENDAR
PRODID:-//AT Content Types//AT Event//EN
VERSION:2.0
METHOD:PUBLISH
BEGIN:VEVENT
DTSTAMP:20260425T201728Z
CREATED:20090708T144817Z
UID:ATEvent-13eace0a6cbd59592fc560f558d70694
LAST-MODIFIED:20090708T145136Z
SUMMARY:TemplomszentelÃ©si emlÃ©kÃ¼nnep
DTSTART:20090913T090000Z
DTEND:20090913T103000Z
DESCRIPTION:A Sobori EvangÃ©likus LeÃ¡nyegyhÃ¡z templomÃ©pÃ­tÅ‘ szÃ¡nd
 Ã©kÃ¡t 1928. szeptember 9-Ã©n koronÃ¡zta meg Isten Ã¡ldÃ¡sa\, amikor f
 elszentelÃ©s utÃ¡n hasznÃ¡latba vette a gyÃ¼lekezet az igehirdetÃ©s hÃ
 ¡zÃ¡t.
LOCATION:Sobor\, evangÃ©likus templom
CLASS:PUBLIC
END:VEVENT
END:VCALENDAR
