BEGIN:VCALENDAR
PRODID:-//AT Content Types//AT Event//EN
VERSION:1.0
BEGIN:VEVENT
DTSTART:20090330T160500Z
DTEND:20090406T160500Z
DCREATED:20090128T180513Z
UID:ATEvent-55146079c147659d8a2ffe8e4076ac61
SEQUENCE:0
LAST-MODIFIED:20090305T232554Z
SUMMARY:ProChrist evangélizáció
DESCRIPTION:Az evangélizálás újszerű módjával találkozhatunk i
 dén tavasszal az ország több\, mint 70\, s Európa több\, mint 1.0
 00 helyszínén\, amikor a németországi Chemnitzből műholdas közv
 etítéssel érkezik hozzánk az evangélium örömüzenete.
LOCATION:Rábaszentandrás\, Faluház
PRIORITY:3
TRANSP:0
END:VEVENT
END:VCALENDAR
