BEGIN:VCALENDAR
PRODID:-//AT Content Types//AT Event//EN
VERSION:1.0
BEGIN:VEVENT
DTSTART:20110715T160000Z
DTEND:20110715T180000Z
DCREATED:20110629T100950Z
UID:ATEvent-1949fe280c86a257518ec9d2fb7cc783
SEQUENCE:0
LAST-MODIFIED:20110702T210529Z
SUMMARY:Presbiteri gyűlés Rábaszentandráson
DESCRIPTION:Félévértékelő gyűlést tartunk a rábaszentandrási 
 imateremben 2011. július 15-én\, pénteken\, 18.00 órai kezdettel.
LOCATION:Rábaszentandrás\, ev. imaterem
PRIORITY:3
TRANSP:0
END:VEVENT
END:VCALENDAR
