BEGIN:VCALENDAR
PRODID:-//AT Content Types//AT Event//EN
VERSION:2.0
METHOD:PUBLISH
BEGIN:VEVENT
DTSTAMP:20260424T052320Z
CREATED:20120626T200919Z
UID:ATEvent-5e1a19e1b1893e43ad473442c96abe1f
LAST-MODIFIED:20120626T200926Z
SUMMARY:Presbiteri gyűlés
DTSTART:20120628T170000Z
DTEND:20120628T174000Z
LOCATION:Rábaszentandrás\, evangélikus templom
CLASS:PUBLIC
END:VEVENT
END:VCALENDAR
