BEGIN:VCALENDAR
PRODID:-//AT Content Types//AT Event//EN
VERSION:2.0
METHOD:PUBLISH
BEGIN:VEVENT
DTSTAMP:20260426T032827Z
CREATED:20120608T082720Z
UID:ATEvent-66d775ee29825093587fa9eee38ed67e
LAST-MODIFIED:20120608T102350Z
SUMMARY:Köd Mirabella megkeresztelése
DTSTART:20110911T092000Z
DTEND:20110911T094500Z
LOCATION:Sobor\, evangélikus templom
CLASS:PUBLIC
END:VEVENT
END:VCALENDAR
