BEGIN:VCALENDAR
PRODID:-//AT Content Types//AT Event//EN
VERSION:2.0
METHOD:PUBLISH
BEGIN:VEVENT
DTSTAMP:20260426T020306Z
CREATED:20090708T133715Z
UID:ATEvent-a62f956e0ca289c92da363a432343b58
LAST-MODIFIED:20090708T133736Z
SUMMARY:Horváth Miklósné Bors Sarolta temetése
DTSTART:20090705T140000Z
DTEND:20090705T144000Z
LOCATION:Rábaszentandrás\, temető
CATEGORIES:Temetés
CLASS:PUBLIC
END:VEVENT
END:VCALENDAR
