BEGIN:VCALENDAR
PRODID:-//AT Content Types//AT Event//EN
VERSION:2.0
METHOD:PUBLISH
BEGIN:VEVENT
DTSTAMP:20260425T235832Z
CREATED:20120621T094640Z
UID:ATEvent-70d477858970fad6b9fa64d7ccad59e4
LAST-MODIFIED:20120621T095235Z
SUMMARY:Csiszár Zsombor Gábor keresztelője
DTSTART:20120415T080000Z
DTEND:20120415T084000Z
LOCATION:Rábaszentandrás\, evangélikus templom
CATEGORIES:Keresztelő
CLASS:PUBLIC
END:VEVENT
END:VCALENDAR
